BEGIN:VCALENDAR
PRODID:-//45.79.5.212//NONSGML iCalcreator 2.6//
VERSION:2.0
BEGIN:VEVENT
UID:20230805T231433CEST-4244TZZAnC@45.79.5.212
DTSTAMP:20230805T211433Z
CATEGORIES:American University of Puerto Rico Events
DESCRIPTION:
DTSTART:20230401T000000
DTEND:20240414T000000
LOCATION:
SUMMARY:Vídeo 58va Colación de Grados
END:VEVENT
END:VCALENDAR
