BEGIN:VCALENDAR
PRODID:-//45.79.5.212//NONSGML iCalcreator 2.6//
VERSION:2.0
BEGIN:VEVENT
UID:20230806T094936CEST-3504MmTH3u@45.79.5.212
DTSTAMP:20230806T074936Z
CATEGORIES:American University of Puerto Rico Events
DESCRIPTION:
DTSTART:20230401T000000
DTEND:20230401T000000
LOCATION:
SUMMARY:Actos Graduación Escuela Voc. Agrícola Pablo D. Burgos
END:VEVENT
END:VCALENDAR
