BEGIN:VCALENDAR
PRODID:-//45.79.5.212//NONSGML iCalcreator 2.6//
VERSION:2.0
BEGIN:VEVENT
UID:20230806T094005CEST-0372dch0Rm@45.79.5.212
DTSTAMP:20230806T074005Z
CATEGORIES:American University of Puerto Rico Events
DESCRIPTION:
DTSTART:20230829T000000
DTEND:20240229T000000
LOCATION:
SUMMARY:Actos Graduación Escuela Francisco Manrique Cabrera
END:VEVENT
END:VCALENDAR
