BEGIN:VCALENDAR
PRODID:-//45.79.5.212//NONSGML iCalcreator 2.6//
VERSION:2.0
BEGIN:VEVENT
UID:20230805T124121CEST-7770GudzVh@45.79.5.212
DTSTAMP:20230805T104121Z
CATEGORIES:American University of Puerto Rico Events
DESCRIPTION:
DTSTART:20230401T000000
DTEND:20240329T000000
LOCATION:
SUMMARY:Actos Graduación José S. Alegría
END:VEVENT
END:VCALENDAR
