BEGIN:VCALENDAR
PRODID:-//45.79.5.212//NONSGML iCalcreator 2.6//
VERSION:2.0
BEGIN:VEVENT
UID:20230806T080718CEST-9235Gia7DB@45.79.5.212
DTSTAMP:20230806T060718Z
CATEGORIES:American University of Puerto Rico Events
DESCRIPTION:
DTSTART:20230401T000000
DTEND:20240129T000000
LOCATION:
SUMMARY:Actos Graduación Escuela Miguel De Cervantes
END:VEVENT
END:VCALENDAR
