BEGIN:VCALENDAR
PRODID:-//45.79.5.212//NONSGML iCalcreator 2.6//
VERSION:2.0
BEGIN:VEVENT
UID:20230806T205652CEST-8209L8BeVW@45.79.5.212
DTSTAMP:20230806T185652Z
CATEGORIES:American University of Puerto Rico Events
DESCRIPTION:
DTSTART:20230401T000000
DTEND:20240206T000000
LOCATION:
SUMMARY:Actos Graduación Escuela Nicolás Sevilla
END:VEVENT
END:VCALENDAR
