BEGIN:VCALENDAR
PRODID:-//45.79.5.212//NONSGML iCalcreator 2.6//
VERSION:2.0
BEGIN:VEVENT
UID:20230806T205649CEST-3878f0r9xU@45.79.5.212
DTSTAMP:20230806T185649Z
CATEGORIES:American University of Puerto Rico Events
DESCRIPTION:
DTSTART:20230401T000000
DTEND:20240206T000000
LOCATION:
SUMMARY:Actos Graduación Escuela Juan Quirindongo Morell
END:VEVENT
END:VCALENDAR
