BEGIN:VCALENDAR
PRODID:-//45.79.5.212//NONSGML iCalcreator 2.6//
VERSION:2.0
BEGIN:VEVENT
UID:20230806T061014CEST-87719CC3NJ@45.79.5.212
DTSTAMP:20230806T041014Z
CATEGORIES:American University of Puerto Rico Events
DESCRIPTION:
DTSTART:20230401T000000
DTEND:20230622T000000
LOCATION:
SUMMARY:Orientación a Padres Puerto Rico Youth Challenge Academy
END:VEVENT
END:VCALENDAR
