BEGIN:VCALENDAR
PRODID:-//45.79.5.212//NONSGML iCalcreator 2.6//
VERSION:2.0
BEGIN:VEVENT
UID:20230806T205459CEST-8273fZgDJd@45.79.5.212
DTSTAMP:20230806T185459Z
CATEGORIES:American University of Puerto Rico Events
DESCRIPTION:
DTSTART:20230401T000000
DTEND:20230622T000000
LOCATION:
SUMMARY:College Day Sup. Petra Corretjer
END:VEVENT
END:VCALENDAR
