BEGIN:VCALENDAR
PRODID:-//45.79.5.212//NONSGML iCalcreator 2.6//
VERSION:2.0
BEGIN:VEVENT
UID:20230805T035538CEST-2239C38uDc@45.79.5.212
DTSTAMP:20230805T015538Z
CATEGORIES:American University of Puerto Rico Events
DESCRIPTION:
DTSTART:20230401T000000
DTEND:20230622T000000
LOCATION:
SUMMARY:Fotografía Forense
END:VEVENT
END:VCALENDAR
