BEGIN:VCALENDAR
PRODID:-//45.79.5.212//NONSGML iCalcreator 2.6//
VERSION:2.0
BEGIN:VEVENT
UID:20230805T031506CEST-0861RjVOBN@45.79.5.212
DTSTAMP:20230805T011506Z
CATEGORIES:American University of Puerto Rico Events
DESCRIPTION:
DTSTART:20230910T000000
DTEND:20230622T000000
LOCATION:
SUMMARY:Eventos Competitivos FBLA
END:VEVENT
END:VCALENDAR
