BEGIN:VCALENDAR
PRODID:-//45.79.5.212//NONSGML iCalcreator 2.6//
VERSION:2.0
BEGIN:VEVENT
UID:20230805T165033CEST-6679MB8REP@45.79.5.212
DTSTAMP:20230805T145033Z
CATEGORIES:American University of Puerto Rico Events
DESCRIPTION:
DTSTART:20230401T000000
DTEND:20230622T000000
LOCATION:
SUMMARY:Reunión Colegios Privados Educación Especial
END:VEVENT
END:VCALENDAR
