BEGIN:VCALENDAR
PRODID:-//45.79.5.212//NONSGML iCalcreator 2.6//
VERSION:2.0
BEGIN:VEVENT
UID:20230805T133506CEST-7580NhVkV6@45.79.5.212
DTSTAMP:20230805T113506Z
CATEGORIES:American University of Puerto Rico Events
DESCRIPTION:
DTSTART:20230401T000000
DTEND:20240210T000000
LOCATION:
SUMMARY:Abolición de la Esclavitud
END:VEVENT
END:VCALENDAR
