BEGIN:VCALENDAR
PRODID:-//45.79.5.212//NONSGML iCalcreator 2.6//
VERSION:2.0
BEGIN:VEVENT
UID:20230806T205949CEST-2374IHcTlV@45.79.5.212
DTSTAMP:20230806T185949Z
CATEGORIES:American University of Puerto Rico Events
DESCRIPTION:
DTSTART:20230401T000000
DTEND:20240414T000000
LOCATION:
SUMMARY:Día de la Mujer\, Plaza Pública en Morovis
END:VEVENT
END:VCALENDAR
