BEGIN:VCALENDAR
PRODID:-//45.79.5.212//NONSGML iCalcreator 2.6//
VERSION:2.0
BEGIN:VEVENT
UID:20230806T205948CEST-7130j97TUu@45.79.5.212
DTSTAMP:20230806T185948Z
CATEGORIES:American University of Puerto Rico Events
DESCRIPTION:
DTSTART:20230401T000000
DTEND:20240414T000000
LOCATION:
SUMMARY:Nuestros Piratas siguen dándolo todo&#8230\;
END:VEVENT
END:VCALENDAR
