BEGIN:VCALENDAR
PRODID:-//45.79.5.212//NONSGML iCalcreator 2.6//
VERSION:2.0
BEGIN:VEVENT
UID:20230806T211047CEST-55985Ez5vF@45.79.5.212
DTSTAMP:20230806T191047Z
CATEGORIES:American University of Puerto Rico Events
DESCRIPTION:
DTSTART:20230401T000000
DTEND:20230428T000000
LOCATION:
SUMMARY:Flechados un martes de San Valentín
END:VEVENT
END:VCALENDAR
