BEGIN:VCALENDAR
PRODID:-//45.79.5.212//NONSGML iCalcreator 2.6//
VERSION:2.0
BEGIN:VEVENT
UID:20230806T211126CEST-1693ipgzXW@45.79.5.212
DTSTAMP:20230806T191126Z
CATEGORIES:American University of Puerto Rico Events
DESCRIPTION:
DTSTART:20230228T000000
DTEND:20230428T000000
LOCATION:
SUMMARY:Juego de Baloncesto AU vs UPR Aguadilla y AU vs UCB
END:VEVENT
END:VCALENDAR
