BEGIN:VCALENDAR
PRODID:-//45.79.5.212//NONSGML iCalcreator 2.6//
VERSION:2.0
BEGIN:VEVENT
UID:20230806T123335CEST-2411GZsddv@45.79.5.212
DTSTAMP:20230806T103335Z
CATEGORIES:American University of Puerto Rico Events
DESCRIPTION:
DTSTART:20230228T000000
DTEND:20231201T000000
LOCATION:
SUMMARY:Repaso PAA (College Board) PRYCA
END:VEVENT
END:VCALENDAR
