BEGIN:VCALENDAR
PRODID:-//45.79.5.212//NONSGML iCalcreator 2.6//
VERSION:2.0
BEGIN:VEVENT
UID:20230806T211042CEST-9023n0CxtR@45.79.5.212
DTSTAMP:20230806T191042Z
CATEGORIES:American University of Puerto Rico Events
DESCRIPTION:
DTSTART:20230228T000000
DTEND:20230801T000000
LOCATION:
SUMMARY:Taller Apariencia Profesional para PRYCA
END:VEVENT
END:VCALENDAR
