BEGIN:VCALENDAR
PRODID:-//45.79.5.212//NONSGML iCalcreator 2.6//
VERSION:2.0
BEGIN:VEVENT
UID:20230806T211125CEST-2628PvzJlO@45.79.5.212
DTSTAMP:20230806T191125Z
CATEGORIES:American University of Puerto Rico Events
DESCRIPTION:
DTSTART:20230228T000000
DTEND:20230428T000000
LOCATION:
SUMMARY:JUEGO DE BALONCESTO 9 DE FEBRERO
END:VEVENT
END:VCALENDAR
