BEGIN:VCALENDAR
PRODID:-//45.79.5.212//NONSGML iCalcreator 2.6//
VERSION:2.0
BEGIN:VEVENT
UID:20230805T123608CEST-75681UOu1k@45.79.5.212
DTSTAMP:20230805T103608Z
CATEGORIES:American University of Puerto Rico Events
DESCRIPTION:
DTSTART:20230228T000000
DTEND:20230428T000000
LOCATION:
SUMMARY:Fiestas de Reyes en Morovis
END:VEVENT
END:VCALENDAR
