BEGIN:VCALENDAR
PRODID:-//45.79.5.212//NONSGML iCalcreator 2.6//
VERSION:2.0
BEGIN:VEVENT
UID:20230806T211014CEST-66481ItU4g@45.79.5.212
DTSTAMP:20230806T191014Z
CATEGORIES:American University of Puerto Rico Events
DESCRIPTION:
DTSTART:20230228T000000
DTEND:20230428T000000
LOCATION:
SUMMARY:Desarrollo Profesional para Directores y Maestros en el Área de Tr
 ansición
END:VEVENT
END:VCALENDAR
