BEGIN:VCALENDAR
PRODID:-//45.79.5.212//NONSGML iCalcreator 2.6//
VERSION:2.0
BEGIN:VEVENT
UID:20230806T201046CEST-7176rSCRwz@45.79.5.212
DTSTAMP:20230806T181046Z
CATEGORIES:American University of Puerto Rico Events
DESCRIPTION:
DTSTART:20230228T000000
DTEND:20230428T000000
LOCATION:
SUMMARY:Orientación y práctica pruebas META PR para Directores
END:VEVENT
END:VCALENDAR
