BEGIN:VCALENDAR
PRODID:-//45.79.5.212//NONSGML iCalcreator 2.6//
VERSION:2.0
BEGIN:VEVENT
UID:20230806T211018CEST-040713tmdv@45.79.5.212
DTSTAMP:20230806T191018Z
CATEGORIES:American University of Puerto Rico Events
DESCRIPTION:
DTSTART:20230228T000000
DTEND:20230628T000000
LOCATION:
SUMMARY:Reunión para Maestros de Educación Especial
END:VEVENT
END:VCALENDAR
