BEGIN:VCALENDAR
PRODID:-//45.79.5.212//NONSGML iCalcreator 2.6//
VERSION:2.0
BEGIN:VEVENT
UID:20230806T211102CEST-8406A2lhoD@45.79.5.212
DTSTAMP:20230806T191102Z
CATEGORIES:American University of Puerto Rico Events
DESCRIPTION:
DTSTART:20230228T000000
DTEND:20230928T000000
LOCATION:
SUMMARY:Homenaje al profesor y escritor Germán Laureano Ortega
END:VEVENT
END:VCALENDAR
