BEGIN:VCALENDAR
PRODID:-//45.79.5.212//NONSGML iCalcreator 2.6//
VERSION:2.0
BEGIN:VEVENT
UID:20230806T211056CEST-7346t29BVp@45.79.5.212
DTSTAMP:20230806T191056Z
CATEGORIES:American University of Puerto Rico Events
DESCRIPTION:
DTSTART:20230228T000000
DTEND:20230428T000000
LOCATION:
SUMMARY:Charla &#8220\;El efecto subliminar de la música en los jóvenes&#
 8221\;
END:VEVENT
END:VCALENDAR
