BEGIN:VCALENDAR
PRODID:-//45.79.5.212//NONSGML iCalcreator 2.6//
VERSION:2.0
BEGIN:VEVENT
UID:20230805T064013CEST-0992FGuObh@45.79.5.212
DTSTAMP:20230805T044013Z
CATEGORIES:American University of Puerto Rico Events
DESCRIPTION:
DTSTART:20230228T000000
DTEND:20230428T000000
LOCATION:
SUMMARY:Reunión de Maestros del Depto. de Educación
END:VEVENT
END:VCALENDAR
