BEGIN:VCALENDAR
PRODID:-//45.79.5.212//NONSGML iCalcreator 2.6//
VERSION:2.0
BEGIN:VEVENT
UID:20230806T211103CEST-9362fpA0uM@45.79.5.212
DTSTAMP:20230806T191103Z
CATEGORIES:American University of Puerto Rico Events
DESCRIPTION:
DTSTART:20230228T000000
DTEND:20220830T000000
LOCATION:
SUMMARY:Taller: Manejo y Resolución de Conflictos
END:VEVENT
END:VCALENDAR
