BEGIN:VCALENDAR
PRODID:-//45.79.5.212//NONSGML iCalcreator 2.6//
VERSION:2.0
BEGIN:VEVENT
UID:20230805T015910CEST-5073NMp7B6@45.79.5.212
DTSTAMP:20230805T235910Z
CATEGORIES:American University of Puerto Rico Events
DESCRIPTION:
DTSTART:20230228T000000
DTEND:20220830T000000
LOCATION:
SUMMARY:Congreso de DECA
END:VEVENT
END:VCALENDAR
