BEGIN:VCALENDAR
PRODID:-//45.79.5.212//NONSGML iCalcreator 2.6//
VERSION:2.0
BEGIN:VEVENT
UID:20230806T164014CEST-5056vCbAsZ@45.79.5.212
DTSTAMP:20230806T144014Z
CATEGORIES:American University of Puerto Rico Events
DESCRIPTION:
DTSTART:20230228T000000
DTEND:20230419T000000
LOCATION:
SUMMARY:Actividades Semana del 31 de octubre al 4 de noviembre
END:VEVENT
END:VCALENDAR
