BEGIN:VCALENDAR
PRODID:-//45.79.5.212//NONSGML iCalcreator 2.6//
VERSION:2.0
BEGIN:VEVENT
UID:20230806T211037CEST-4385sJwznv@45.79.5.212
DTSTAMP:20230806T191037Z
CATEGORIES:American University of Puerto Rico Events
DESCRIPTION:
DTSTART:20230228T000000
DTEND:20230819T000000
LOCATION:
SUMMARY:Volleyball Femenino
END:VEVENT
END:VCALENDAR
