BEGIN:VCALENDAR
PRODID:-//45.79.5.212//NONSGML iCalcreator 2.6//
VERSION:2.0
BEGIN:VEVENT
UID:20230806T211114CEST-5082k6GZfG@45.79.5.212
DTSTAMP:20230806T191114Z
CATEGORIES:American University of Puerto Rico Events
DESCRIPTION:
DTSTART:20230228T000000
DTEND:20220830T000000
LOCATION:
SUMMARY:Feria Senior&#8217\;s Next Level Expo
END:VEVENT
END:VCALENDAR
