BEGIN:VCALENDAR
PRODID:-//45.79.5.212//NONSGML iCalcreator 2.6//
VERSION:2.0
BEGIN:VEVENT
UID:20230805T013046CEST-1283JmvzuD@45.79.5.212
DTSTAMP:20230805T233046Z
CATEGORIES:American University of Puerto Rico Events
DESCRIPTION:
DTSTART:20230919T000000
DTEND:20230119T000000
LOCATION:
SUMMARY:Mes de la Prevención del Cancer de Seno
END:VEVENT
END:VCALENDAR
