BEGIN:VCALENDAR
PRODID:-//45.79.5.212//NONSGML iCalcreator 2.6//
VERSION:2.0
BEGIN:VEVENT
UID:20230806T211023CEST-9261vXdlK4@45.79.5.212
DTSTAMP:20230806T191023Z
CATEGORIES:American University of Puerto Rico Events
DESCRIPTION:
DTSTART:20230228T000000
DTEND:20220830T000000
LOCATION:
SUMMARY:Mes de la Salud Mental
END:VEVENT
END:VCALENDAR
