BEGIN:VCALENDAR
PRODID:-//45.79.5.212//NONSGML iCalcreator 2.6//
VERSION:2.0
BEGIN:VEVENT
UID:20230805T170242CEST-6294NKHPtf@45.79.5.212
DTSTAMP:20230805T150242Z
CATEGORIES:American University of Puerto Rico Events
DESCRIPTION:
DTSTART:19700101T000000
DTEND:20230506T000000
LOCATION:
SUMMARY:Municipio de Toa Baja
END:VEVENT
END:VCALENDAR
