BEGIN:VCALENDAR
PRODID:-//45.79.5.212//NONSGML iCalcreator 2.6//
VERSION:2.0
BEGIN:VEVENT
UID:20230806T211123CEST-1603s7bzwD@45.79.5.212
DTSTAMP:20230806T191123Z
CATEGORIES:American University of Puerto Rico Events
DESCRIPTION:
DTSTART:19700101T000000
DTEND:20230506T000000
LOCATION:
SUMMARY:Bachillerato en Justicia Criminal
END:VEVENT
END:VCALENDAR
