BEGIN:VCALENDAR
PRODID:-//45.79.5.212//NONSGML iCalcreator 2.6//
VERSION:2.0
BEGIN:VEVENT
UID:20230806T211013CEST-6483JB94Cu@45.79.5.212
DTSTAMP:20230806T191013Z
CATEGORIES:American University of Puerto Rico Events
DESCRIPTION:
DTSTART:19700101T000000
DTEND:20230228T000000
LOCATION:
SUMMARY:Orientación para Padres Clase 23-01 PRYCA
END:VEVENT
END:VCALENDAR
