BEGIN:VCALENDAR
PRODID:-//45.79.5.212//NONSGML iCalcreator 2.6//
VERSION:2.0
BEGIN:VEVENT
UID:20230806T211004CEST-50763GgKHO@45.79.5.212
DTSTAMP:20230806T191004Z
CATEGORIES:American University of Puerto Rico Events
DESCRIPTION:
DTSTART:19700101T000000
DTEND:19700101T000000
LOCATION:
SUMMARY:57ma. Colación de Grados
END:VEVENT
END:VCALENDAR
