BEGIN:VCALENDAR
PRODID:-//45.79.5.212//NONSGML iCalcreator 2.6//
VERSION:2.0
BEGIN:VEVENT
UID:20230806T211015CEST-6772sdphwJ@45.79.5.212
DTSTAMP:20230806T191015Z
CATEGORIES:American University of Puerto Rico Events
DESCRIPTION:
DTSTART:19700101T000000
DTEND:19700101T000000
LOCATION:
SUMMARY:Reunión Maestros de Educación Física Adaptada
END:VEVENT
END:VCALENDAR
