BEGIN:VCALENDAR
PRODID:-//45.79.5.212//NONSGML iCalcreator 2.6//
VERSION:2.0
BEGIN:VEVENT
UID:20230806T211127CEST-205518apx3@45.79.5.212
DTSTAMP:20230806T191127Z
CATEGORIES:American University of Puerto Rico Events
DESCRIPTION:
DTSTART:19700101T000000
DTEND:19700101T000000
LOCATION:
SUMMARY:Entrega de Incentivos a Graduandos de 4to Año 2021-2022 Municipio 
 de Vega Alta
END:VEVENT
END:VCALENDAR
