BEGIN:VCALENDAR
PRODID:-//45.79.5.212//NONSGML iCalcreator 2.6//
VERSION:2.0
BEGIN:VEVENT
UID:20230806T211035CEST-7186EUhX51@45.79.5.212
DTSTAMP:20230806T191035Z
CATEGORIES:American University of Puerto Rico Events
DESCRIPTION:
DTSTART:20221128T000000
DTEND:20230615T000000
LOCATION:
SUMMARY:Reunión de Bienvenida Año Escolar 2022-2023
END:VEVENT
END:VCALENDAR
