BEGIN:VCALENDAR
PRODID:-//45.79.5.212//NONSGML iCalcreator 2.6//
VERSION:2.0
BEGIN:VEVENT
UID:20230806T211116CEST-3509ua9lE9@45.79.5.212
DTSTAMP:20230806T191116Z
CATEGORIES:American University of Puerto Rico Events
DESCRIPTION:
DTSTART:20221128T000000
DTEND:20230615T000000
LOCATION:
SUMMARY:Orientación a Cadetes PRYCA
END:VEVENT
END:VCALENDAR
