BEGIN:VCALENDAR
PRODID:-//45.79.5.212//NONSGML iCalcreator 2.6//
VERSION:2.0
BEGIN:VEVENT
UID:20230806T211039CEST-6595riVjPs@45.79.5.212
DTSTAMP:20230806T191039Z
CATEGORIES:American University of Puerto Rico Events
DESCRIPTION:
DTSTART:20221128T000000
DTEND:20230208T000000
LOCATION:
SUMMARY:Adistramiento Prevención de Tiradores Activos  Guardias de Segurid
 ad ORE Bayamón
END:VEVENT
END:VCALENDAR
