BEGIN:VCALENDAR
PRODID:-//45.79.5.212//NONSGML iCalcreator 2.6//
VERSION:2.0
BEGIN:VEVENT
UID:20230806T211054CEST-8709g72Cvv@45.79.5.212
DTSTAMP:20230806T191054Z
CATEGORIES:American University of Puerto Rico Events
DESCRIPTION:
DTSTART:20221128T000000
DTEND:20230208T000000
LOCATION:
SUMMARY:Entrega de Incentivos a Graduandos de 4to Año 2021-2022 Municipio 
 de Vega Alta
END:VEVENT
END:VCALENDAR
