BEGIN:VCALENDAR
PRODID:-//45.79.5.212//NONSGML iCalcreator 2.6//
VERSION:2.0
BEGIN:VEVENT
UID:20230806T211101CEST-57274VeIJb@45.79.5.212
DTSTAMP:20230806T191101Z
CATEGORIES:American University of Puerto Rico Events
DESCRIPTION:
DTSTART:20220503T000000
DTEND:20220103T000000
LOCATION:
SUMMARY:Video: 30 Aniversario de Recuperación del Sr. Miguel Coll
END:VEVENT
END:VCALENDAR
