BEGIN:VCALENDAR
PRODID:-//45.79.5.212//NONSGML iCalcreator 2.6//
VERSION:2.0
BEGIN:VEVENT
UID:20230806T211029CEST-7033FxsV6v@45.79.5.212
DTSTAMP:20230806T191029Z
CATEGORIES:American University of Puerto Rico Events
DESCRIPTION:
DTSTART:20221128T000000
DTEND:20230208T000000
LOCATION:
SUMMARY:Fotos Actos de Graduación Sup. Luis Palés Matos
END:VEVENT
END:VCALENDAR
