BEGIN:VCALENDAR
PRODID:-//45.79.5.212//NONSGML iCalcreator 2.6//
VERSION:2.0
BEGIN:VEVENT
UID:20230806T211044CEST-49466bsuKk@45.79.5.212
DTSTAMP:20230806T191044Z
CATEGORIES:American University of Puerto Rico Events
DESCRIPTION:
DTSTART:20220808T000000
DTEND:20230208T000000
LOCATION:
SUMMARY:Fotos Actos de Graduación Dr. Pedro Albizu Campos
END:VEVENT
END:VCALENDAR
