BEGIN:VCALENDAR
PRODID:-//45.79.5.212//NONSGML iCalcreator 2.6//
VERSION:2.0
BEGIN:VEVENT
UID:20230805T124758CEST-9693K259jP@45.79.5.212
DTSTAMP:20230805T104758Z
CATEGORIES:American University of Puerto Rico Events
DESCRIPTION:
DTSTART:20220503T000000
DTEND:20220103T000000
LOCATION:
SUMMARY:Actos de Graduación Escuela Luis Palés Matos
END:VEVENT
END:VCALENDAR
