BEGIN:VCALENDAR
PRODID:-//45.79.5.212//NONSGML iCalcreator 2.6//
VERSION:2.0
BEGIN:VEVENT
UID:20230806T211007CEST-4343OjlUX2@45.79.5.212
DTSTAMP:20230806T191007Z
CATEGORIES:American University of Puerto Rico Events
DESCRIPTION:
DTSTART:20220503T000000
DTEND:20220103T000000
LOCATION:
SUMMARY:Actos de Graduación Dr. Pedro Albizu Campos
END:VEVENT
END:VCALENDAR
