BEGIN:VCALENDAR
PRODID:-//45.79.5.212//NONSGML iCalcreator 2.6//
VERSION:2.0
BEGIN:VEVENT
UID:20230806T174614CEST-1185O0KdSv@45.79.5.212
DTSTAMP:20230806T154614Z
CATEGORIES:American University of Puerto Rico Events
DESCRIPTION:
DTSTART:20220808T000000
DTEND:20230208T000000
LOCATION:
SUMMARY:Fotos Actos de Graduación Sup. Miguel De Cervantes
END:VEVENT
END:VCALENDAR
